BEGIN:VCALENDAR
VERSION:2.0
PRODID:-//ChamberMaster//Event Calendar 2.0//EN
METHOD:PUBLISH
X-PUBLISHED-TTL:P3D
REFRESH-INTERVAL:P3D
CALSCALE:GREGORIAN
BEGIN:VEVENT
DTSTART:20250216T020000Z
DTEND:20250216T050000Z
X-MICROSOFT-CDO-ALLDAYEVENT:FALSE
SUMMARY:Winemaker Dinner at Valentina's Kitchen
DESCRIPTION:We are thrilled to invite you to Elkhorn Peak's first-ever Winemaker Dinner\, a Valentine's Day celebration of love\, wine\, and exquisite dining. Hosted at Valentina's Kitchen\, a charming\, locally loved restaurant in American Canyon. The evening will feature a four-course menu\, each course paired with wines from Elkhorn Peak's estate vineyards\, located on highway 12\, across the street from the Chardonnay Golf Course. Dinner Details: ??: Valentina's Kitchen   100 W American Canyon Road\, American Canyon\, CA (just minutes from the vineyard) ??: Saturday\, February 15th\, 2025 at 6 PM ??: Cocktail attire/business casual Please direct any questions to Elise at info@elkhornpeak.com or by phone at (707) 363-3061.
X-ALT-DESC;FMTTYPE=text/html:We are thrilled to invite you to Elkhorn Peak&rsquo\;s first-ever Winemaker Dinner\, a Valentine&rsquo\;s Day celebration of love\, wine\, and exquisite dining. Hosted at Valentina&rsquo\;s Kitchen\, a charming\, locally loved restaurant in American Canyon. The evening will feature a four-course menu\, each course paired with wines from Elkhorn Peak&#39\;s estate vineyards\, located on highway 12\, across the street from the Chardonnay Golf Course. Dinner Details: ??: Valentina&rsquo\;s Kitchen &ndash\; 100 W American Canyon Road\, American Canyon\, CA (just minutes from the vineyard) ??: Saturday\, February 15th\, 2025 at 6 PM ??: Cocktail attire/business casual Please direct any questions to Elise at info@elkhornpeak.com or by phone at (707) 363-3061.
LOCATION:Valentina's Kitchen 100 W American Canyon Road\, American Canyon\, CA
UID:e.2410.4286
SEQUENCE:3
DTSTAMP:20260419T133217Z
URL:http://visit.amcanchamber.org/events/details/winemaker-dinner-at-valentina-s-kitchen-4286
END:VEVENT

END:VCALENDAR
