BEGIN:VCALENDAR
VERSION:2.0
PRODID:-//ChamberMaster//Event Calendar 2.0//EN
METHOD:PUBLISH
X-PUBLISHED-TTL:P3D
REFRESH-INTERVAL:P3D
CALSCALE:GREGORIAN
BEGIN:VEVENT
DTSTART:20181014T220000Z
DTEND:20181015T000000Z
X-MICROSOFT-CDO-ALLDAYEVENT:FALSE
SUMMARY:Vallejo Symphony Concert I - Vibrant
DESCRIPTION:Sunday\, October 14\, 2018@3pm Vallejo Symphony. Beethoven\, Shostakovich\, Rachmaninoff Piano Concerto No. 2. Marc Taddei\, conductor\, David Fung\, pianist. Empress Theatre\, Vallejo\, $35-$65. Subscriptions available. vallejosymphony.org or 707-643-4441.
X-ALT-DESC;FMTTYPE=text/html:Sunday\, October 14\, 2018@3pm Vallejo Symphony. Beethoven\, Shostakovich\, Rachmaninoff Piano Concerto No. 2. Marc Taddei\, conductor\, David Fung\, pianist. Empress Theatre\, Vallejo\, $35-$65. Subscriptions available. vallejosymphony.org or 707-643-4441.
LOCATION:Empress Theatre 330 Virginia Street Vallejo
UID:e.2410.2391
SEQUENCE:3
DTSTAMP:20260425T152737Z
URL:http://visit.amcanchamber.org/events/details/vallejo-symphony-concert-i-vibrant-2391
END:VEVENT

END:VCALENDAR
