BEGIN:VCALENDAR
VERSION:2.0
PRODID:-//ChamberMaster//Event Calendar 2.0//EN
METHOD:PUBLISH
X-PUBLISHED-TTL:P3D
REFRESH-INTERVAL:P3D
CALSCALE:GREGORIAN
BEGIN:VEVENT
DTSTART;VALUE=DATE:20180214
DTEND;VALUE=DATE:20180215
TRANSP:TRANSPARENT
X-MICROSOFT-CDO-ALLDAYEVENT:TRUE
SUMMARY:Valentine's Dinner at Eagle Vines
DESCRIPTION:Valentine's Dinner for Two
X-ALT-DESC;FMTTYPE=text/html:Valentine&#39\;s Dinner for Two
LOCATION:Eagle Vines Vineyards & Golf Club
UID:e.2410.1502
SEQUENCE:3
DTSTAMP:20260425T222414Z
URL:http://visit.amcanchamber.org/events/details/valentine-s-dinner-at-eagle-vines-1502
END:VEVENT

END:VCALENDAR
