BEGIN:VCALENDAR
VERSION:2.0
PRODID:-//ChamberMaster//Event Calendar 2.0//EN
METHOD:PUBLISH
X-PUBLISHED-TTL:P3D
REFRESH-INTERVAL:P3D
CALSCALE:GREGORIAN
BEGIN:VEVENT
DTSTART:20180630T003000Z
DTEND:20180630T023000Z
X-MICROSOFT-CDO-ALLDAYEVENT:FALSE
SUMMARY:Tunes On Terrace 29
DESCRIPTION:Live Music with Aldon Sanders
X-ALT-DESC;FMTTYPE=text/html:Live Music with Aldon&nbsp\;Sanders
LOCATION:DoubleTree Hotel 3600 Broadway St. American Canyon
UID:e.2410.2376
SEQUENCE:3
DTSTAMP:20260425T152014Z
URL:http://visit.amcanchamber.org/events/details/tunes-on-terrace-29-2376
END:VEVENT

END:VCALENDAR
