BEGIN:VCALENDAR
VERSION:2.0
PRODID:-//ChamberMaster//Event Calendar 2.0//EN
METHOD:PUBLISH
X-PUBLISHED-TTL:P3D
REFRESH-INTERVAL:P3D
CALSCALE:GREGORIAN
BEGIN:VEVENT
DTSTART:20180623T003000Z
DTEND:20180623T023000Z
X-MICROSOFT-CDO-ALLDAYEVENT:FALSE
SUMMARY:Tunes On Terrace 29
DESCRIPTION:Live Music with Paper Moon
X-ALT-DESC;FMTTYPE=text/html:Live Music with Paper Moon
LOCATION:DoubleTree Hotel 3600 Broadway St. American Canyon
UID:e.2410.2375
SEQUENCE:3
DTSTAMP:20260425T152013Z
URL:http://visit.amcanchamber.org/events/details/tunes-on-terrace-29-2375
END:VEVENT

END:VCALENDAR
