BEGIN:VCALENDAR
VERSION:2.0
PRODID:-//ChamberMaster//Event Calendar 2.0//EN
METHOD:PUBLISH
X-PUBLISHED-TTL:P3D
REFRESH-INTERVAL:P3D
CALSCALE:GREGORIAN
BEGIN:VEVENT
DTSTART:20180728T210000Z
DTEND:20180729T000000Z
X-MICROSOFT-CDO-ALLDAYEVENT:FALSE
SUMMARY:The Earley Risers bring the funk to Seven Artisans Winery
DESCRIPTION:Saturday\, July 28th 2:00   5:00 SEVEN ARTISANS WINERY Presents: THE EARLEY RISERS $15 includes one glass of First Flight wine Join us for a day fantastic music\, dancing and more! Picnics welcome Seven Artisans Winery 4341 Abernathy Road\, Fairfield\, CA 94534 Call: (707) 330-3806 sevenartisanswinery@gmail.com No outside alcohol allowed "We'll see you on the lawn"
X-ALT-DESC;FMTTYPE=text/html:Saturday\, July 28th 2:00 &ndash\; 5:00 SEVEN ARTISANS WINERY Presents: THE EARLEY RISERS $15 includes one glass of First Flight wine Join us for a day fantastic music\, dancing and more! Picnics welcome Seven Artisans Winery 4341 Abernathy Road\, Fairfield\, CA 94534 Call: (707) 330-3806 sevenartisanswinery@gmail.com No outside alcohol allowed &ldquo\;We&rsquo\;ll see you on the lawn&rdquo\;
LOCATION:Seven Artisans Winery 4341 Abernathy Road Fairfield\, CA 94534
UID:e.2410.2396
SEQUENCE:3
DTSTAMP:20260425T135807Z
URL:http://visit.amcanchamber.org/events/details/the-earley-risers-bring-the-funk-to-seven-artisans-winery-2396
END:VEVENT

END:VCALENDAR
