BEGIN:VCALENDAR
VERSION:2.0
PRODID:-//ChamberMaster//Event Calendar 2.0//EN
METHOD:PUBLISH
X-PUBLISHED-TTL:P3D
REFRESH-INTERVAL:P3D
CALSCALE:GREGORIAN
BEGIN:VEVENT
DTSTART:20181101T160000Z
DTEND:20181101T173000Z
X-MICROSOFT-CDO-ALLDAYEVENT:FALSE
SUMMARY:TBID Meeting (Tourism Business Improvement District)
DESCRIPTION:The Tourism and Business Improvement District Meeting is open to the public\, but the committee is an appointed committee. Committee members include a representatives from the 3 American Canyon hotels\, Chamber/Welcome Center\, business owner and 2 City Councilpersons.
X-ALT-DESC;FMTTYPE=text/html:The Tourism and Business Improvement District Meeting is open to the public\, but the committee is an appointed committee. Committee members include a representatives from the 3 American Canyon hotels\, Chamber/Welcome Center\, business owner and 2 City Councilpersons.&nbsp\;
LOCATION:American Canyon City Hall 4381 Broadway St.\, Suite 201 American Canyon
UID:e.2410.1480
SEQUENCE:3
DTSTAMP:20260425T134227Z
URL:http://visit.amcanchamber.org/events/details/tbid-meeting-tourism-business-improvement-district-11-01-2018-1480
END:VEVENT

END:VCALENDAR
