BEGIN:VCALENDAR
VERSION:2.0
PRODID:-//ChamberMaster//Event Calendar 2.0//EN
METHOD:PUBLISH
X-PUBLISHED-TTL:P3D
REFRESH-INTERVAL:P3D
CALSCALE:GREGORIAN
BEGIN:VEVENT
DTSTART:20180104T170000Z
DTEND:20180104T183000Z
X-MICROSOFT-CDO-ALLDAYEVENT:FALSE
SUMMARY:TBID Meeting
DESCRIPTION:
X-ALT-DESC;FMTTYPE=text/html:
LOCATION:American Canyon City Hall 4381 Broadway St.\, Suite 201 American Canyon
UID:e.2410.1408
SEQUENCE:3
DTSTAMP:20260425T223150Z
URL:http://visit.amcanchamber.org/events/details/tbid-meeting-1408
END:VEVENT

END:VCALENDAR
