BEGIN:VCALENDAR
VERSION:2.0
PRODID:-//ChamberMaster//Event Calendar 2.0//EN
METHOD:PUBLISH
X-PUBLISHED-TTL:P3D
REFRESH-INTERVAL:P3D
CALSCALE:GREGORIAN
BEGIN:VEVENT
DTSTART:20180215T160000Z
DTEND:20180215T190000Z
X-MICROSOFT-CDO-ALLDAYEVENT:FALSE
SUMMARY:State Of The City
DESCRIPTION:The Cities annual report to the community.
X-ALT-DESC;FMTTYPE=text/html:The Cities annual report to the community.
LOCATION:DoubleTree Hotel 3600 Broadway Street American Canyon\, Ca 94503
UID:e.2410.1403
SEQUENCE:3
DTSTAMP:20260425T211051Z
URL:http://visit.amcanchamber.org/events/details/state-of-the-city-1403
END:VEVENT

END:VCALENDAR
