BEGIN:VCALENDAR
VERSION:2.0
PRODID:-//ChamberMaster//Event Calendar 2.0//EN
METHOD:PUBLISH
X-PUBLISHED-TTL:P3D
REFRESH-INTERVAL:P3D
CALSCALE:GREGORIAN
BEGIN:VEVENT
DTSTART:20180704T180000Z
DTEND:20180705T060000Z
X-MICROSOFT-CDO-ALLDAYEVENT:FALSE
SUMMARY:Star-Spangled Social
DESCRIPTION:It's time to get your red\, white and blue celebration on in charming Calistoga for a day of All-American fun with a splash of Napa Valley Style! Enjoy a hometown parade\, carnival\, an afternoon picnic\, backyard games\, golf ball drop\, retro-cocktails\, refreshing beverages\, and a fireworks show like no other. Join us for a Star-Spangled Social of fun\, flavor\, and flare! Fourth of July Parade 11:00 a.m. - 12:00 p.m. Downtown Calistoga Lincoln Avenue and Fair Way\, starting at Cedar Street Free Event Website: www.CelebrateNapaValley.org/Social Local: 707.942.5111 Email: info@celebratenapavalley.org
X-ALT-DESC;FMTTYPE=text/html:It&rsquo\;s time to get your red\, white and blue celebration on in charming Calistoga for a day of All-American fun with a splash of Napa Valley Style! Enjoy a hometown parade\, carnival\, an afternoon picnic\, backyard games\, golf ball drop\, retro-cocktails\, refreshing beverages\, and a fireworks show like no other. Join us for a Star-Spangled Social of fun\, flavor\, and flare! Fourth of July Parade 11:00 a.m. - 12:00 p.m. Downtown Calistoga Lincoln Avenue and Fair Way\, starting at Cedar Street Free Event Website: www.CelebrateNapaValley.org/Social Local: 707.942.5111 Email: info@celebratenapavalley.org
LOCATION:Napa County Fairgrounds Calistoga
UID:e.2410.2372
SEQUENCE:3
DTSTAMP:20260425T151910Z
URL:http://visit.amcanchamber.org/events/details/star-spangled-social-2372
END:VEVENT

END:VCALENDAR
