BEGIN:VCALENDAR
VERSION:2.0
PRODID:-//ChamberMaster//Event Calendar 2.0//EN
METHOD:PUBLISH
X-PUBLISHED-TTL:P3D
REFRESH-INTERVAL:P3D
CALSCALE:GREGORIAN
BEGIN:VEVENT
DTSTART:20180818T010000Z
DTEND:20180818T040000Z
X-MICROSOFT-CDO-ALLDAYEVENT:FALSE
SUMMARY:Stand Up Comedy
DESCRIPTION:World Class Stand Up Comedy at Charles Krug located in St. Helena\, Napa Valley. Doors open at 6pm\, Show at 7:30pm. $28 General Admission / Advance Online: TheLaughCellar.com / Wine available for Purchase / Seating Provided / Please no outside food or drink / 21+ Show
X-ALT-DESC;FMTTYPE=text/html:World Class Stand Up Comedy at Charles Krug located in St. Helena\, Napa Valley. Doors open at 6pm\, Show at 7:30pm. $28 General Admission / Advance Online: TheLaughCellar.com / Wine available for Purchase / Seating Provided / Please no outside food or drink / 21+ Show
LOCATION:2800 Main Street St. Helena\, CA. 94574
UID:e.2410.2405
SEQUENCE:3
DTSTAMP:20260425T120820Z
URL:http://visit.amcanchamber.org/events/details/stand-up-comedy-2405
END:VEVENT

END:VCALENDAR
