BEGIN:VCALENDAR
VERSION:2.0
PRODID:-//ChamberMaster//Event Calendar 2.0//EN
METHOD:PUBLISH
X-PUBLISHED-TTL:P3D
REFRESH-INTERVAL:P3D
CALSCALE:GREGORIAN
BEGIN:VEVENT
DTSTART:20180101T180000Z
DTEND:20180101T220000Z
X-MICROSOFT-CDO-ALLDAYEVENT:FALSE
SUMMARY:Napa Valley Resolution Run 5K/10K
DESCRIPTION:Race Info\n\n						What: Blast from the starting line to begin a glorious New Year!\n\n						Run a 5K/10K through beautiful Yountville on January 1st\, at 10am.\n\n						The race starts and ends at the Yountville Community Center.\n\n						Celebrate the new year running! \n\n						Music and entertainment to be provided by\n\n						DJ Jerry Schultz of the NEW Schultz Entertainment Experience (aka Portable Party Crew-West).  \n\n						Thank you to our main sponsor Athletic Feat! \n\n						\n\n						When: Sunday January 1 st\, 2018\, at 10:00 AM \n\n						\n\n						Where: Starts at the Yountville Community Center\, 6516 Washington Street\, Yountville\, CA\n\n						\n\n						Registration: Visit the registration page (or www.naparesolutionrun.com) \n\n						\n\n						Registration cost:\n\n						\n							\n								\n									Registration Period\n									Adults / Youth\n									Groups of 4 or more\n\n									(per person)\n\n									Adults / Youth\n								\n								\n									 \n									 \n									 \n								\n								\n									12/16/17 thru 12/29/17\n									$40 / $35\n									$35 / $30\n								\n								\n									12/30/17 thru 1/1/18:\n									$45 / $40\n									n/a\n								\n							\n						\n						Youth rate is for ages 8 thru 17 on day of race.\n\n						Kids 7 years old or younger on day of race are free\, but will not be timed or receive swag unless you choose to register them as paying participants.\n\n						\n\n						Proceeds: Race proceeds will benefit the Napa Valley Vine Trail\, to support their arts\, education and trail maintenance programs.
X-ALT-DESC;FMTTYPE=text/html:<table border="0" cellpadding="0" cellspacing="0" style="width:1000px\;" width="0">\n	<tbody>\n		<tr>\n			<td style="padding:22.5pt 22.5pt 22.5pt 22.5pt\;vertical-align:top\;">\n			<table border="0" cellpadding="0" cellspacing="0" style="width:100.0%\;" width="100%">\n				<tbody>\n					<tr>\n						<td style="padding:0in 0in 0in 0in\;"><br />\n						<br />\n						<br />\n						<br />\n						<br />\n						<strong><span style="font-size:18.0pt\;">Race Info</span></strong><br />\n						<strong>What:</strong> Blast from the starting line to begin a glorious New Year!<br />\n						Run a 5K/10K through beautiful Yountville on January 1st\, at 10am.<br />\n						The race starts and ends at the Yountville Community Center.<br />\n						Celebrate the new year running!&nbsp\;<br />\n						Music and entertainment to be provided by<br />\n						DJ Jerry Schultz of the NEW Schultz Entertainment Experience (aka Portable Party Crew-West). &nbsp\;<br />\n						Thank you to our main sponsor Athletic Feat!&nbsp\;<br />\n						<br />\n						<strong>When:</strong> Sunday January 1 st\, 2018\, at 10:00 AM&nbsp\;<br />\n						<br />\n						<strong>Where:</strong> Starts at the <strong>Yountville Community Center</strong>\, 6516 Washington Street\, Yountville\, CA<br />\n						<br />\n						<strong>Registration:</strong> Visit the <a href="https://runsignup.com/Race/CA/Yountville/NapaValleyResolutionRun" target="ext">registration page</a>&nbsp\;(or <a href="http://www.naparesolutionrun.com">www.naparesolutionrun.com</a>)&nbsp\;<br />\n						<br />\n						<strong>Registration cost:</strong>\n\n						<table border="1" cellpadding="0" cellspacing="0" style="z-index:auto\;">\n							<tbody>\n								<tr>\n									<td style="padding:3.75pt 3.75pt 3.75pt 3.75pt\;"><strong>Registration Period</strong></td>\n									<td style="padding:3.75pt 3.75pt 3.75pt 3.75pt\;"><strong>Adults / Youth</strong></td>\n									<td style="padding:3.75pt 3.75pt 3.75pt 3.75pt\;"><strong>Groups of 4 or more</strong><br />\n									<strong><strong>(per person)</strong><br />\n									<strong>Adults / Youth</strong></strong></td>\n								</tr>\n								<tr>\n									<td style="background:#FBDFA9\;padding:3.75pt 3.75pt 3.75pt 3.75pt\;">&nbsp\;</td>\n									<td style="background:#FBDFA9\;padding:3.75pt 3.75pt 3.75pt 3.75pt\;">&nbsp\;</td>\n									<td style="background:#FBDFA9\;padding:3.75pt 3.75pt 3.75pt 3.75pt\;">&nbsp\;</td>\n								</tr>\n								<tr>\n									<td style="background:white\;padding:3.75pt 3.75pt 3.75pt 3.75pt\;">12/16/17 thru 12/29/17</td>\n									<td style="background:white\;padding:3.75pt 3.75pt 3.75pt 3.75pt\;">$40 / $35</td>\n									<td style="background:white\;padding:3.75pt 3.75pt 3.75pt 3.75pt\;">$35 / $30</td>\n								</tr>\n								<tr>\n									<td style="background:white\;padding:3.75pt 3.75pt 3.75pt 3.75pt\;">12/30/17 thru 1/1/18:</td>\n									<td style="background:white\;padding:3.75pt 3.75pt 3.75pt 3.75pt\;">$45 / $40</td>\n									<td style="background:white\;padding:3.75pt 3.75pt 3.75pt 3.75pt\;">n/a</td>\n								</tr>\n							</tbody>\n						</table>\n						Youth rate is for ages 8 thru 17 on day of race.<br />\n						Kids 7 years old or younger on day of race are free\, but will not be timed or receive swag unless you choose to register them as paying participants.<br />\n						<br />\n						<strong>Proceeds:</strong> Race proceeds will benefit the <a href="http://www.vinetrail.org" target="ext">Napa Valley Vine Trail</a>\, to support their arts\, education and trail maintenance programs.</td>\n					</tr>\n				</tbody>\n			</table>\n			</td>\n		</tr>\n	</tbody>\n</table>\n&nbsp\;<br />\n&nbsp\;
LOCATION:
UID:e.2410.1497
SEQUENCE:3
DTSTAMP:20260425T223008Z
URL:http://visit.amcanchamber.org/events/details/napa-valley-resolution-run-5k-10k-1497
END:VEVENT

END:VCALENDAR
