BEGIN:VCALENDAR
VERSION:2.0
PRODID:-//ChamberMaster//Event Calendar 2.0//EN
METHOD:PUBLISH
X-PUBLISHED-TTL:P3D
REFRESH-INTERVAL:P3D
CALSCALE:GREGORIAN
BEGIN:VEVENT
DTSTART:20180805T143000Z
DTEND:20180805T190000Z
X-MICROSOFT-CDO-ALLDAYEVENT:FALSE
SUMMARY:Napa Humane's 7th Annual Walk for Animals
DESCRIPTION:Napa Humane's Walk for Animals is a fun-filled family event. "Move your paws for the cause" on a short stroll down Napa's Riverfront that makes huge strides supporting companion animals throughout the Napa Valley. Everyone is welcome to participate with their dog\, in honor of\, or in memory of a beloved pet. Animal-loving walkers register online and gather donations\, earning prizes and competing for top fundraiser status. The event is a morning full of music\, contests\, a silent auction\, raffles\, giveaways\, and activities for pets and people\, with 100% of proceeds going to Napa Humane's lifesaving programs and services.
X-ALT-DESC;FMTTYPE=text/html:Napa Humane&rsquo\;s Walk for Animals is a fun-filled family event. &ldquo\;Move your paws for the cause&rdquo\; on a short stroll down Napa&rsquo\;s Riverfront that makes huge strides supporting companion animals throughout the Napa Valley. Everyone is welcome to participate with their dog\, in honor of\, or in memory of a beloved pet. Animal-loving walkers register online and gather donations\, earning prizes and competing for top fundraiser status. The event is a morning full of music\, contests\, a silent auction\, raffles\, giveaways\, and activities for pets and people\, with 100% of proceeds going to Napa Humane&rsquo\;s lifesaving programs and services.
LOCATION:Oxbow Commons 1268 McKinstry Street\, Napa\, CA
UID:e.2410.2371
SEQUENCE:3
DTSTAMP:20260425T140024Z
URL:http://visit.amcanchamber.org/events/details/napa-humane-s-7th-annual-walk-for-animals-2371
END:VEVENT

END:VCALENDAR
