BEGIN:VCALENDAR
VERSION:2.0
PRODID:-//ChamberMaster//Event Calendar 2.0//EN
METHOD:PUBLISH
X-PUBLISHED-TTL:P3D
REFRESH-INTERVAL:P3D
CALSCALE:GREGORIAN
BEGIN:VEVENT
DTSTART:20180923T030000Z
DTEND:20180923T050000Z
X-MICROSOFT-CDO-ALLDAYEVENT:FALSE
SUMMARY:Movie under the Stars
DESCRIPTION:The Doubletree by Hilton brings a FREE movie night to American Canyon. Just bring yourself\, your friends and family for a fun movie night where we will be playing The Lion King on a 14ft outdoor screen. We will provide blankets\, popcorn and hot cocoa.
X-ALT-DESC;FMTTYPE=text/html:The Doubletree by Hilton brings a FREE movie night to American Canyon. Just bring yourself\, your friends and family for a fun movie night where we will be playing The Lion King on a 14ft outdoor screen. We will provide blankets\, popcorn and hot cocoa.
LOCATION:Doubletree by Hilton- 3600 Broadway St\, American Canyon CA 94503
UID:e.2410.2415
SEQUENCE:3
DTSTAMP:20260425T105327Z
URL:http://visit.amcanchamber.org/events/details/movie-under-the-stars-09-22-2018-2415
END:VEVENT

END:VCALENDAR
