BEGIN:VCALENDAR
VERSION:2.0
PRODID:-//ChamberMaster//Event Calendar 2.0//EN
METHOD:PUBLISH
X-PUBLISHED-TTL:P3D
REFRESH-INTERVAL:P3D
CALSCALE:GREGORIAN
BEGIN:VEVENT
DTSTART:20181115T013000Z
DTEND:20181115T033000Z
X-MICROSOFT-CDO-ALLDAYEVENT:FALSE
SUMMARY:Monthy Mixer
DESCRIPTION:Business to business connection - food - drinks - raffle - prizes
X-ALT-DESC;FMTTYPE=text/html:Business to business connection - food - drinks - raffle - prizes
LOCATION:American Canyon Army Career Center 6040 Main St\, Suite C1 American Canyon\, Ca 94503
UID:e.2410.1484
SEQUENCE:3
DTSTAMP:20260425T133721Z
URL:http://visit.amcanchamber.org/events/details/monthy-mixer-1484
END:VEVENT

END:VCALENDAR
