BEGIN:VCALENDAR
VERSION:2.0
PRODID:-//ChamberMaster//Event Calendar 2.0//EN
METHOD:PUBLISH
X-PUBLISHED-TTL:P3D
REFRESH-INTERVAL:P3D
CALSCALE:GREGORIAN
BEGIN:VEVENT
DTSTART:20180920T003000Z
DTEND:20180920T023000Z
X-MICROSOFT-CDO-ALLDAYEVENT:FALSE
SUMMARY:Mixer at Spa-Land
DESCRIPTION:Our monthly mixers are designed to create and foster business to business relationships for our members. Bring a handful of business cards and be ready to network!
X-ALT-DESC;FMTTYPE=text/html:Our monthly mixers are designed to create and foster business to business relationships for our&nbsp\;members. Bring a handful of business cards and be ready to network!
LOCATION:Spa-Land 3421 Broadway St.#3 American Canyon
UID:e.2410.1470
SEQUENCE:3
DTSTAMP:20260425T104636Z
URL:http://visit.amcanchamber.org/events/details/mixer-at-spa-land-1470
END:VEVENT

END:VCALENDAR
