BEGIN:VCALENDAR
VERSION:2.0
PRODID:-//ChamberMaster//Event Calendar 2.0//EN
METHOD:PUBLISH
X-PUBLISHED-TTL:P3D
REFRESH-INTERVAL:P3D
CALSCALE:GREGORIAN
BEGIN:VEVENT
DTSTART:20180419T003000Z
DTEND:20180419T023000Z
X-MICROSOFT-CDO-ALLDAYEVENT:FALSE
SUMMARY:Mixer at Recology American Canyon
DESCRIPTION:Our monthly mixers are designed to create and foster business to business relationships for our members. Bring a handful of business cards and be ready to network!
X-ALT-DESC;FMTTYPE=text/html:Our monthly mixers are designed to create and foster business to business relationships for our members. Bring a handful of business cards and be ready to network!
LOCATION:Recology American Canyon 2021 Broadway St. Vallejo
UID:e.2410.1434
SEQUENCE:3
DTSTAMP:20260425T181921Z
URL:http://visit.amcanchamber.org/events/details/mixer-at-recology-american-canyon-1434
END:VEVENT

END:VCALENDAR
