BEGIN:VCALENDAR
VERSION:2.0
PRODID:-//ChamberMaster//Event Calendar 2.0//EN
METHOD:PUBLISH
X-PUBLISHED-TTL:P3D
REFRESH-INTERVAL:P3D
CALSCALE:GREGORIAN
BEGIN:VEVENT
DTSTART:20180816T003000Z
DTEND:20180816T023000Z
X-MICROSOFT-CDO-ALLDAYEVENT:FALSE
SUMMARY:Mixer at Mezzetta
DESCRIPTION:Our monthly mixers are designed to create and foster business to business relationships for our members. Bring a handful of business cards and be ready to network!
X-ALT-DESC;FMTTYPE=text/html:Our monthly mixers are designed to create and foster business to business relationships for our&nbsp\;members. Bring a handful of business cards and be ready to network!
LOCATION:G. L. Mezzetta 105 Mezzetta Ct. American Canyon
UID:e.2410.1462
SEQUENCE:3
DTSTAMP:20260425T120811Z
URL:http://visit.amcanchamber.org/events/details/mixer-at-mezzetta-1462
END:VEVENT

END:VCALENDAR
