BEGIN:VCALENDAR
VERSION:2.0
PRODID:-//ChamberMaster//Event Calendar 2.0//EN
METHOD:PUBLISH
X-PUBLISHED-TTL:P3D
REFRESH-INTERVAL:P3D
CALSCALE:GREGORIAN
BEGIN:VEVENT
DTSTART:20180322T003000Z
DTEND:20180322T023000Z
X-MICROSOFT-CDO-ALLDAYEVENT:FALSE
SUMMARY:Mixer at Homestead Senior Care
DESCRIPTION:
X-ALT-DESC;FMTTYPE=text/html:
LOCATION:
UID:e.2410.1427
SEQUENCE:3
DTSTAMP:20260425T195043Z
URL:http://visit.amcanchamber.org/events/details/mixer-at-homestead-senior-care-1427
END:VEVENT

END:VCALENDAR
