BEGIN:VCALENDAR
VERSION:2.0
PRODID:-//ChamberMaster//Event Calendar 2.0//EN
METHOD:PUBLISH
X-PUBLISHED-TTL:P3D
REFRESH-INTERVAL:P3D
CALSCALE:GREGORIAN
BEGIN:VEVENT
DTSTART:20180222T013000Z
DTEND:20180222T033000Z
X-MICROSOFT-CDO-ALLDAYEVENT:FALSE
SUMMARY:Mixer at Hiddenbrooke Golf Club
DESCRIPTION:
X-ALT-DESC;FMTTYPE=text/html:
LOCATION:Hiddenbrooke Golf Club 2555 Hiddenbrooke Parkway Vallejo
UID:e.2410.1420
SEQUENCE:3
DTSTAMP:20260425T210927Z
URL:http://visit.amcanchamber.org/events/details/mixer-at-hiddenbrooke-golf-club-1420
END:VEVENT

END:VCALENDAR
