BEGIN:VCALENDAR
VERSION:2.0
PRODID:-//ChamberMaster//Event Calendar 2.0//EN
METHOD:PUBLISH
X-PUBLISHED-TTL:P3D
REFRESH-INTERVAL:P3D
CALSCALE:GREGORIAN
BEGIN:VEVENT
DTSTART:20171118T013000Z
DTEND:20171118T033000Z
X-MICROSOFT-CDO-ALLDAYEVENT:FALSE
SUMMARY:Mixer at Army Recruitment Center
DESCRIPTION:
X-ALT-DESC;FMTTYPE=text/html:
LOCATION:Army Recruitment Center 6040 Main Street\, American Canyon Located across from Jamba Juice in the Napa Junction Plaza
UID:e.2410.1331
SEQUENCE:3
DTSTAMP:20260426T031825Z
URL:http://visit.amcanchamber.org/events/details/mixer-at-army-recruitment-center-1331
END:VEVENT

END:VCALENDAR
