BEGIN:VCALENDAR
VERSION:2.0
PRODID:-//ChamberMaster//Event Calendar 2.0//EN
METHOD:PUBLISH
X-PUBLISHED-TTL:P3D
REFRESH-INTERVAL:P3D
CALSCALE:GREGORIAN
BEGIN:VEVENT
DTSTART:20181018T003000Z
DTEND:20181018T013000Z
X-MICROSOFT-CDO-ALLDAYEVENT:FALSE
SUMMARY:Mixer at American Canyon Orthodontics
DESCRIPTION:Our monthly mixers are designed to create and foster business to business relationships for our members. Bring a handful of business cards and be ready to network!
X-ALT-DESC;FMTTYPE=text/html:Our monthly mixers are designed to create and foster business to business relationships for our&nbsp\;members. Bring a handful of business cards and be ready to network!
LOCATION:American Canyon Orthodontics 3419 Broadway St American Canyon
UID:e.2410.1477
SEQUENCE:3
DTSTAMP:20260425T152319Z
URL:http://visit.amcanchamber.org/events/details/mixer-at-american-canyon-orthodontics-1477
END:VEVENT

END:VCALENDAR
