BEGIN:VCALENDAR
VERSION:2.0
PRODID:-//ChamberMaster//Event Calendar 2.0//EN
METHOD:PUBLISH
X-PUBLISHED-TTL:P3D
REFRESH-INTERVAL:P3D
CALSCALE:GREGORIAN
BEGIN:VEVENT
DTSTART:20180118T013000Z
DTEND:20180118T033000Z
X-MICROSOFT-CDO-ALLDAYEVENT:FALSE
SUMMARY:Mixer at American Canyon City Hall
DESCRIPTION:
X-ALT-DESC;FMTTYPE=text/html:
LOCATION:City of American Canyon 4381 Broadway St\, Suite 201 American Canyon
UID:e.2410.1412
SEQUENCE:3
DTSTAMP:20260425T223606Z
URL:http://visit.amcanchamber.org/events/details/mixer-at-american-canyon-city-hall-1412
END:VEVENT

END:VCALENDAR
