BEGIN:VCALENDAR
VERSION:2.0
PRODID:-//ChamberMaster//Event Calendar 2.0//EN
METHOD:PUBLISH
X-PUBLISHED-TTL:P3D
REFRESH-INTERVAL:P3D
CALSCALE:GREGORIAN
BEGIN:VEVENT
DTSTART:20171214T013000Z
DTEND:20171214T030000Z
X-MICROSOFT-CDO-ALLDAYEVENT:FALSE
SUMMARY:Member Celebration Mixer!
DESCRIPTION:Celebrate the end of the year at our Annual Member Celebration Mixer!
X-ALT-DESC;FMTTYPE=text/html:Celebrate the end of the year at our Annual Member Celebration Mixer!<br />\n<br />\n&nbsp\;
LOCATION:Springhill Suites\, 101 Gateway Rd E\, Napa
UID:e.2410.1323
SEQUENCE:3
DTSTAMP:20260426T001330Z
URL:http://visit.amcanchamber.org/events/details/member-celebration-mixer-1323
END:VEVENT

END:VCALENDAR
