BEGIN:VCALENDAR
VERSION:2.0
PRODID:-//ChamberMaster//Event Calendar 2.0//EN
METHOD:PUBLISH
X-PUBLISHED-TTL:P3D
REFRESH-INTERVAL:P3D
CALSCALE:GREGORIAN
BEGIN:VEVENT
DTSTART:20180220T200000Z
DTEND:20180221T010000Z
X-MICROSOFT-CDO-ALLDAYEVENT:FALSE
SUMMARY:Ikea Job Fair
DESCRIPTION:
X-ALT-DESC;FMTTYPE=text/html:
LOCATION:American Canyon Chamber Of Commerce/ Welcome Center 3860 Broadway Street Suite 103 American Canyon
UID:e.2410.1498
SEQUENCE:3
DTSTAMP:20260425T222442Z
URL:http://visit.amcanchamber.org/events/details/ikea-job-fair-1498
END:VEVENT

END:VCALENDAR
