BEGIN:VCALENDAR
VERSION:2.0
PRODID:-//ChamberMaster//Event Calendar 2.0//EN
METHOD:PUBLISH
X-PUBLISHED-TTL:P3D
REFRESH-INTERVAL:P3D
CALSCALE:GREGORIAN
BEGIN:VEVENT
DTSTART:20180127T020000Z
DTEND:20180127T050000Z
X-MICROSOFT-CDO-ALLDAYEVENT:FALSE
SUMMARY:I Am\, I Can Awards & Installation Dinner
DESCRIPTION:
X-ALT-DESC;FMTTYPE=text/html:
LOCATION:Doubletree by Hilton 3600 Broadway American Canyon
UID:e.2410.1406
SEQUENCE:3
DTSTAMP:20260425T223016Z
URL:http://visit.amcanchamber.org/events/details/i-am-i-can-awards-installation-dinner-1406
END:VEVENT

END:VCALENDAR
