BEGIN:VCALENDAR
VERSION:2.0
PRODID:-//ChamberMaster//Event Calendar 2.0//EN
METHOD:PUBLISH
X-PUBLISHED-TTL:P3D
REFRESH-INTERVAL:P3D
CALSCALE:GREGORIAN
BEGIN:VEVENT
DTSTART:20181014T220000Z
DTEND:20181014T230000Z
X-MICROSOFT-CDO-ALLDAYEVENT:FALSE
SUMMARY:Home Buyers Workshop
DESCRIPTION:This is an education workshp for people who are interested in buying a home\, but need a little bit more education on the process. Please join to see if buying a home is right for you.
X-ALT-DESC;FMTTYPE=text/html:This is an education workshp for people who are interested in buying a home\, but need a little bit more education on the process. Please join to see if buying a home is right for you.&nbsp\;
LOCATION:American Canyon Chaber of Commerce 3860 Broadway Street#103 American Cayon\, Ca 94503
UID:e.2410.2416
SEQUENCE:3
DTSTAMP:20260425T133621Z
URL:http://visit.amcanchamber.org/events/details/home-buyers-workshop-2416
END:VEVENT

END:VCALENDAR
