BEGIN:VCALENDAR
VERSION:2.0
PRODID:-//ChamberMaster//Event Calendar 2.0//EN
METHOD:PUBLISH
X-PUBLISHED-TTL:P3D
REFRESH-INTERVAL:P3D
CALSCALE:GREGORIAN
BEGIN:VEVENT
DTSTART:20180412T154500Z
DTEND:20180412T173000Z
X-MICROSOFT-CDO-ALLDAYEVENT:FALSE
SUMMARY:Government Affairs Committee
DESCRIPTION:A joint meeting for American Canyon businesses and City of American Canyon government officials to discuss policy issues affecting local businesses.
X-ALT-DESC;FMTTYPE=text/html:A joint meeting for American Canyon businesses and City of American Canyon government&nbsp\;officials to discuss policy issues affecting local businesses.
LOCATION:American Canyon City Hall 4381 Broadway St.\, Suite 201 American Canyon
UID:e.2410.1433
SEQUENCE:3
DTSTAMP:20260425T182545Z
URL:http://visit.amcanchamber.org/events/details/government-affairs-committee-1433
END:VEVENT

END:VCALENDAR
