BEGIN:VCALENDAR
VERSION:2.0
PRODID:-//ChamberMaster//Event Calendar 2.0//EN
METHOD:PUBLISH
X-PUBLISHED-TTL:P3D
REFRESH-INTERVAL:P3D
CALSCALE:GREGORIAN
BEGIN:VEVENT
DTSTART:20180208T164500Z
DTEND:20180208T183000Z
X-MICROSOFT-CDO-ALLDAYEVENT:FALSE
SUMMARY:Government Affairs Committee
DESCRIPTION:
X-ALT-DESC;FMTTYPE=text/html:
LOCATION:American Canyon City Hall 4381 Broadway St.\, Suite 201 American Canyon
UID:e.2410.1417
SEQUENCE:3
DTSTAMP:20260425T223431Z
URL:http://visit.amcanchamber.org/events/details/government-affairs-committee-02-08-2018-1417
END:VEVENT

END:VCALENDAR
