BEGIN:VCALENDAR
VERSION:2.0
PRODID:-//ChamberMaster//Event Calendar 2.0//EN
METHOD:PUBLISH
X-PUBLISHED-TTL:P3D
REFRESH-INTERVAL:P3D
CALSCALE:GREGORIAN
BEGIN:VEVENT
DTSTART:20180701T210000Z
DTEND:20180702T050000Z
X-MICROSOFT-CDO-ALLDAYEVENT:FALSE
SUMMARY:Fiesta Mexicana & Jaripeo
DESCRIPTION:A cultural celebration of the food\, music\, and entertainment of Mexico
X-ALT-DESC;FMTTYPE=text/html:A cultural celebration of the food\, music\, and entertainment of Mexico
LOCATION:Napa County Fairgrounds Calistoga
UID:e.2410.2373
SEQUENCE:3
DTSTAMP:20260425T133853Z
URL:http://visit.amcanchamber.org/events/details/fiesta-mexicana-jaripeo-2373
END:VEVENT

END:VCALENDAR
