BEGIN:VCALENDAR
VERSION:2.0
PRODID:-//ChamberMaster//Event Calendar 2.0//EN
METHOD:PUBLISH
X-PUBLISHED-TTL:P3D
REFRESH-INTERVAL:P3D
CALSCALE:GREGORIAN
BEGIN:VEVENT
DTSTART:20180505T190000Z
DTEND:20180507T050000Z
X-MICROSOFT-CDO-ALLDAYEVENT:FALSE
SUMMARY:Fair & Fiesta at the Napa County Fairgrounds
DESCRIPTION:Enjoy a full weekend of non-stop fun as the Flynn Creek Circus entertains fairgoers with their human acrobats\, AMA Racing takes to the speedway\, and a bull studded Mexican Jaripeo thrills the crowd. It's Cinco de Mayo during the Fair & Fiesta @ The Napa County Fairgrounds so join the celebration with our live music\, food truck rally\, chef demonstrations\, community competitions\, amusements and games\, petting zoo\, pony rides\, and Agventureland: an agriculturally engaging play area for kids to learn while having fun. For those 21 & over\, don't miss the Cinco de Mayo party on Saturday night.
X-ALT-DESC;FMTTYPE=text/html:Enjoy a full weekend of non-stop fun as the Flynn Creek Circus entertains fairgoers with their human acrobats\, AMA Racing takes to the speedway\, and a bull studded Mexican Jaripeo thrills the crowd. It&rsquo\;s Cinco de Mayo during the Fair &amp\; Fiesta @ The Napa County Fairgrounds so join the celebration with our live music\, food truck rally\, chef demonstrations\, community competitions\, amusements and games\, petting zoo\, pony rides\, and Agventureland: an agriculturally engaging play area for kids to learn while having fun. For those 21 &amp\; over\, don&rsquo\;t miss the Cinco de Mayo party on Saturday night.
LOCATION:Napa County Fairgrounds 1435 N Oak Street\, Calistoga\, CA 94928
UID:e.2410.2154
SEQUENCE:3
DTSTAMP:20260425T165813Z
URL:http://visit.amcanchamber.org/events/details/fair-fiesta-at-the-napa-county-fairgrounds-2154
END:VEVENT

END:VCALENDAR
