BEGIN:VCALENDAR
VERSION:2.0
PRODID:-//ChamberMaster//Event Calendar 2.0//EN
METHOD:PUBLISH
X-PUBLISHED-TTL:P3D
REFRESH-INTERVAL:P3D
CALSCALE:GREGORIAN
BEGIN:VEVENT
DTSTART:20180808T153000Z
DTEND:20180808T163000Z
X-MICROSOFT-CDO-ALLDAYEVENT:FALSE
SUMMARY:Executive Committee
DESCRIPTION:A closed meeting for the executive members of the American Canyon Chamber of Commerce Board of Directors.
X-ALT-DESC;FMTTYPE=text/html:A closed meeting for&nbsp\;the executive members of the American Canyon Chamber of Commerce Board of Directors.
LOCATION:American Canyon Chamber of Commerce 3860 Broadway\, Suite 103 American Canyon
UID:e.2410.2300
SEQUENCE:3
DTSTAMP:20260425T120741Z
URL:http://visit.amcanchamber.org/events/details/executive-committee-08-08-2018-2300
END:VEVENT

END:VCALENDAR
