BEGIN:VCALENDAR
VERSION:2.0
PRODID:-//ChamberMaster//Event Calendar 2.0//EN
METHOD:PUBLISH
X-PUBLISHED-TTL:P3D
REFRESH-INTERVAL:P3D
CALSCALE:GREGORIAN
BEGIN:VEVENT
DTSTART:20180407T010000Z
DTEND:20180407T040000Z
X-MICROSOFT-CDO-ALLDAYEVENT:FALSE
SUMMARY:ENGAGE Art Fair Preview Party
DESCRIPTION:Preview Party   Let the Party POP! Let the art POP by wearing white to the exclusive ENGAGE Preview Party\, held Friday from 6   9 p.m. Enjoy an evening of art and mingling in the bubble lounge\, live music\, select wines\, cocktails\, craft beers and hors d'oeuvres while witnessing the grand reveal. Visit www.CelebrateNapaValley.org/engage for the myriad of experiences offered\, roster of participating artists\, and more info. This event is sponsored by Celebrate! Suggested Dress: WHITE ATTIRE
X-ALT-DESC;FMTTYPE=text/html:Preview Party &ndash\; Let the Party POP! Let the art POP by wearing white to the exclusive ENGAGE Preview Party\, held Friday from 6 &ndash\; 9 p.m. Enjoy an evening of art and mingling in the bubble lounge\, live music\, select wines\, cocktails\, craft beers and hors d&rsquo\;oeuvres while witnessing the grand reveal. Visit www.CelebrateNapaValley.org/engage for the myriad of experiences offered\, roster of participating artists\, and more info. This event is sponsored by Celebrate! Suggested Dress: WHITE ATTIRE
LOCATION:Location: Napa County Fairgrounds 1435 N Oak Street\, Calistoga\, CA 94928 Local: 707.942.5111
UID:e.2410.2104
SEQUENCE:3
DTSTAMP:20260425T181705Z
URL:http://visit.amcanchamber.org/events/details/engage-art-fair-preview-party-2104
END:VEVENT

END:VCALENDAR
