BEGIN:VCALENDAR
VERSION:2.0
PRODID:-//ChamberMaster//Event Calendar 2.0//EN
METHOD:PUBLISH
X-PUBLISHED-TTL:P3D
REFRESH-INTERVAL:P3D
CALSCALE:GREGORIAN
BEGIN:VEVENT
DTSTART:20180407T190000Z
DTEND:20180409T010000Z
X-MICROSOFT-CDO-ALLDAYEVENT:FALSE
SUMMARY:ENGAGE Art Fair
DESCRIPTION:Join Calistoga for ENGAGE Art Fair\, the kick off event for Napa Valley Arts in April. Be immersed into a broad spectrum of reflection\, representation\, and demonstration as bay area artists elevate and innovate the way we experience art. ENGAGE in a grand reveal of art in nearly all mediums: LIVE art engagements\, acoustic music\, bites and beverages\, and the chance to converse with all of the artists directly.
X-ALT-DESC;FMTTYPE=text/html:Join Calistoga for ENGAGE Art Fair\, the kick off event for Napa Valley Arts in April. Be immersed into a broad spectrum of reflection\, representation\, and demonstration as bay area artists elevate and innovate the way we experience art. ENGAGE in a grand reveal of art in nearly all mediums: LIVE art engagements\, acoustic music\, bites and beverages\, and the chance to converse with all of the artists directly.
LOCATION:Location: Napa County Fairgrounds 1435 N Oak Street\, Calistoga\, CA 94928 Local: 707.942.5111 Email: info@celebratenapavalley.org
UID:e.2410.2103
SEQUENCE:3
DTSTAMP:20260425T180952Z
URL:http://visit.amcanchamber.org/events/details/engage-art-fair-2103
END:VEVENT

END:VCALENDAR
