BEGIN:VCALENDAR
VERSION:2.0
PRODID:-//ChamberMaster//Event Calendar 2.0//EN
METHOD:PUBLISH
X-PUBLISHED-TTL:P3D
REFRESH-INTERVAL:P3D
CALSCALE:GREGORIAN
BEGIN:VEVENT
DTSTART:20180313T160000Z
DTEND:20180313T170000Z
X-MICROSOFT-CDO-ALLDAYEVENT:FALSE
SUMMARY:Economic Business Development Committee
DESCRIPTION:The Economic Business Development Committee exists to support the development of current local businesses and their interface with the City of American Canyon\, improve business districts\, and bring new businesses to American Canyon.
X-ALT-DESC;FMTTYPE=text/html:<p style="box-sizing: border-box\; margin: 0px 0px 1.25em\; padding: 0px\; direction: ltr\; font-family: Roboto\, sans-serif\; font-size: 1.4em\; line-height: 1.6\; transition: font-size 0.3s ease-in-out\;"><span style="box-sizing: border-box\; font-size: inherit\;"><span style="font-size:12px\;"><span style="font-family:arial\;">The Economic Business Development Committee exists to support the development of current local businesses and their interface with the City of American Canyon\, improve business districts\, and bring new businesses to American Canyon.&nbsp\;&nbsp\;</span></span></span></p>\n
LOCATION:American Canyon Welcome Center 3860 Broadway\, Ste 103 American Canyon
UID:e.2410.1425
SEQUENCE:3
DTSTAMP:20260425T210004Z
URL:http://visit.amcanchamber.org/events/details/economic-business-development-committee-1425
END:VEVENT

END:VCALENDAR
