BEGIN:VCALENDAR
VERSION:2.0
PRODID:-//ChamberMaster//Event Calendar 2.0//EN
METHOD:PUBLISH
X-PUBLISHED-TTL:P3D
REFRESH-INTERVAL:P3D
CALSCALE:GREGORIAN
BEGIN:VEVENT
DTSTART:20180213T170000Z
DTEND:20180213T180000Z
X-MICROSOFT-CDO-ALLDAYEVENT:FALSE
SUMMARY:Economic Business Development Committee
DESCRIPTION:
X-ALT-DESC;FMTTYPE=text/html:
LOCATION:American Canyon Welcome Center 3860 Broadway\, Ste 103 American Canyon
UID:e.2410.1418
SEQUENCE:3
DTSTAMP:20260425T210755Z
URL:http://visit.amcanchamber.org/events/details/economic-business-development-committee-1418
END:VEVENT

END:VCALENDAR
