BEGIN:VCALENDAR
VERSION:2.0
PRODID:-//ChamberMaster//Event Calendar 2.0//EN
METHOD:PUBLISH
X-PUBLISHED-TTL:P3D
REFRESH-INTERVAL:P3D
CALSCALE:GREGORIAN
BEGIN:VEVENT
DTSTART:20180218T230000Z
DTEND:20180219T000000Z
X-MICROSOFT-CDO-ALLDAYEVENT:FALSE
SUMMARY:Couples Clinic at Eagle Vines Vineyards & Golf Club
DESCRIPTION:Couples Golf Clinic\n\nShort Game Clinic Focused Around: Chipping & Pitching
X-ALT-DESC;FMTTYPE=text/html:Couples Golf Clinic<br />\nShort Game Clinic Focused Around: Chipping &amp\; Pitching
LOCATION:Eagle Vines Vineyards & Golf Club
UID:e.2410.1501
SEQUENCE:3
DTSTAMP:20260425T210916Z
URL:http://visit.amcanchamber.org/events/details/couples-clinic-at-eagle-vines-vineyards-golf-club-1501
END:VEVENT

END:VCALENDAR
