BEGIN:VCALENDAR
VERSION:2.0
PRODID:-//ChamberMaster//Event Calendar 2.0//EN
METHOD:PUBLISH
X-PUBLISHED-TTL:P3D
REFRESH-INTERVAL:P3D
CALSCALE:GREGORIAN
BEGIN:VEVENT
DTSTART:20171010T160000Z
DTEND:20171011T053000Z
X-MICROSOFT-CDO-ALLDAYEVENT:FALSE
SUMMARY:Combined Economic Business Development & Government Affairs Committee Meeting
DESCRIPTION:
X-ALT-DESC;FMTTYPE=text/html:
LOCATION:
UID:e.2410.1391
SEQUENCE:3
DTSTAMP:20260426T032029Z
URL:http://visit.amcanchamber.org/events/details/combined-economic-business-development-government-affairs-committee-meeting-1391
END:VEVENT

END:VCALENDAR
