BEGIN:VCALENDAR
VERSION:2.0
PRODID:-//ChamberMaster//Event Calendar 2.0//EN
METHOD:PUBLISH
X-PUBLISHED-TTL:P3D
REFRESH-INTERVAL:P3D
CALSCALE:GREGORIAN
BEGIN:VEVENT
DTSTART:20171202T170000Z
DTEND:20171203T000000Z
X-MICROSOFT-CDO-ALLDAYEVENT:FALSE
SUMMARY:Christmas Faire
DESCRIPTION:'Tis the season to be jolly... Don your Christmas apparel and make holiday memories at the Calistoga Christmas Faire on Saturday\, December 2nd from 9am to 4pm\, then head on over to get your seat for the Lighted Tractor Parade in downtown Calistoga. Naughty or Nice? This is a free event to everyone wanting to share in the spirit of the holidays! Doors open at 9am. Eat\, drink\, shop\, and join in the festivities! Enter your holiday baking or homemade decorations\, participate in the Cake Walk\, take home two dozen of the community's best cookies (and their recipes) in the Community Cookie Swap\, and get your wish list in early to Santa himself. Santa will be here from 9am-12pm for all the good little girls and boys before returning at 2pm for photos with pets.
X-ALT-DESC;FMTTYPE=text/html:&#39\;Tis the season to be jolly... Don your Christmas apparel and make holiday memories at the Calistoga Christmas Faire on Saturday\, December 2nd from 9am to 4pm\, then head on over to get your seat for the Lighted Tractor Parade in downtown Calistoga. Naughty or Nice? This is a free event to everyone wanting to share in the spirit of the holidays! Doors open at 9am. Eat\, drink\, shop\, and join in the festivities! Enter your holiday baking or homemade decorations\, participate in the Cake Walk\, take home two dozen of the community&#39\;s best cookies (and their recipes) in the Community Cookie Swap\, and get your wish list in early to Santa himself. Santa will be here from 9am-12pm for all the good little girls and boys before returning at 2pm for photos with pets.
LOCATION:Napa County Fairgrounds 1435 N Oak St\, Calistoga\, CA 94515
UID:e.2410.1394
SEQUENCE:3
DTSTAMP:20260426T014154Z
URL:http://visit.amcanchamber.org/events/details/christmas-faire-1394
END:VEVENT

END:VCALENDAR
