BEGIN:VCALENDAR
VERSION:2.0
PRODID:-//ChamberMaster//Event Calendar 2.0//EN
METHOD:PUBLISH
X-PUBLISHED-TTL:P3D
REFRESH-INTERVAL:P3D
CALSCALE:GREGORIAN
BEGIN:VEVENT
DTSTART:20181201T020000Z
DTEND:20181201T050000Z
X-MICROSOFT-CDO-ALLDAYEVENT:FALSE
SUMMARY:Charles Krug Winery Stand Up Comedy Series
DESCRIPTION:Charles Krug Winery 2018 Stand Up Comedy Series / Doors Open 6PM / Show 7:30PM / Featuring Eliot Chang / $28 General Admission / Advance Online: TheLaughCellar.com / Wine and Charcuterie plates available for purchase / Please no outside food or drink / Seating Provided / 21 + Show
X-ALT-DESC;FMTTYPE=text/html:Charles Krug Winery 2018 Stand Up Comedy Series / Doors Open 6PM / Show 7:30PM / Featuring Eliot Chang / $28 General Admission / Advance Online: TheLaughCellar.com / Wine and Charcuterie plates available for purchase / Please no outside food or drink / Seating Provided / 21 + Show
LOCATION:Charles Krug Winery 2800 Main Street St. Helena\, CA. 94515
UID:e.2410.2667
SEQUENCE:3
DTSTAMP:20260425T134021Z
URL:http://visit.amcanchamber.org/events/details/charles-krug-winery-stand-up-comedy-series-2667
END:VEVENT

END:VCALENDAR
