BEGIN:VCALENDAR
VERSION:2.0
PRODID:-//ChamberMaster//Event Calendar 2.0//EN
METHOD:PUBLISH
X-PUBLISHED-TTL:P3D
REFRESH-INTERVAL:P3D
CALSCALE:GREGORIAN
BEGIN:VEVENT
DTSTART:20181103T010000Z
DTEND:20181103T040000Z
X-MICROSOFT-CDO-ALLDAYEVENT:FALSE
SUMMARY:Charles Krug Stand Up Comedy
DESCRIPTION:Charles Krug Winery Fall/Winter 2018 Stand Up Comedy Series / Doors Open 6PM / Show 7:30PM / Billy Anderson / $28 General Admission / Advance Online: TheLaughCellar.com / Wine\, Pizza and Charcuterie plates available for purchase / Please no outside food or drink / Seating Provided / 21 + Show
X-ALT-DESC;FMTTYPE=text/html:Charles Krug Winery Fall/Winter 2018 Stand Up Comedy Series / Doors Open 6PM / Show 7:30PM / Billy Anderson / $28 General Admission / Advance Online: TheLaughCellar.com / Wine\, Pizza and Charcuterie plates available for purchase / Please no outside food or drink / Seating Provided / 21 + Show
LOCATION:Charles Krug Winery\, 2800 Main Street\, St. Helena\, CA. 94574
UID:e.2410.2418
SEQUENCE:3
DTSTAMP:20260425T152116Z
URL:http://visit.amcanchamber.org/events/details/charles-krug-stand-up-comedy-2418
END:VEVENT

END:VCALENDAR
