BEGIN:VCALENDAR
VERSION:2.0
PRODID:-//ChamberMaster//Event Calendar 2.0//EN
METHOD:PUBLISH
X-PUBLISHED-TTL:P3D
REFRESH-INTERVAL:P3D
CALSCALE:GREGORIAN
BEGIN:VEVENT
DTSTART:20261022T160000Z
DTEND:20261022T173000Z
X-MICROSOFT-CDO-ALLDAYEVENT:FALSE
SUMMARY:Chamber Coffee Chat
DESCRIPTION:Join us each month for networking\, coffee\, and light breakfast treats. We will be rotating through the business community so watch our calendar for location. \n\n\n\nChamber Coffee Chat provides chamber members a monthly opportunity to grow their network\, increase visibility in the community\, and time to meet with chamber board members\, chamber staff. These networking events are taking place of the traditional Business Socials to meet the timing needs of our business members.\n\n\n\nWe encourage all American Canyon businesses and non-profits to take advantage of this opportunity to meet and mingle!\n\n\n\nChamber Coffee Chat is a free event and open to the public. We welcome anyone who is interested in becoming more involved with the American Canyon business community.
X-ALT-DESC;FMTTYPE=text/html:<span style="color: rgb(50\, 51\, 58)\;">Join us each month for networking\, coffee\, and light breakfast treats. We will be rotating through the business community so watch our calendar for location.&nbsp\;</span><br />\n<br />\n<span class="JsGRdQ" style="color: rgb(50\, 51\, 58)\;">Chamber Coffee Chat provides chamber members a monthly opportunity to grow their network\, increase visibility in the community\, and time to meet with chamber board members\, chamber staff.<span class="JsGRdQ white-space-prewrap" style="color: rgb(50\, 51\, 58)\;"> </span>These networking events are taking place of the traditional Business Socials to meet the timing needs of our business members.<br />\n<br />\nWe encourage all American Canyon businesses and non-profits to take advantage of this opportunity to meet and mingle!<br />\n<br />\nChamber Coffee Chat is a free event and open to the public. We welcome anyone who is interested in becoming more involved with the American Canyon business community.</span>
LOCATION:
UID:e.2410.3907
SEQUENCE:3
DTSTAMP:20260421T163842Z
URL:http://visit.amcanchamber.org/events/details/chamber-coffee-morning-10-22-2026-3907
END:VEVENT

END:VCALENDAR
