BEGIN:VCALENDAR
VERSION:2.0
PRODID:-//ChamberMaster//Event Calendar 2.0//EN
METHOD:PUBLISH
X-PUBLISHED-TTL:P3D
REFRESH-INTERVAL:P3D
CALSCALE:GREGORIAN
BEGIN:VEVENT
DTSTART:20260625T160000Z
DTEND:20260625T173000Z
X-MICROSOFT-CDO-ALLDAYEVENT:FALSE
SUMMARY:Chamber Coffee Chat
DESCRIPTION:Join us each month for networking\, coffee\, and light breakfast treats. We will be rotating through the business community so watch our calendar for location. For the month of June\, our host will be Wine Country Notary Services and we will meet at the AC Chamber of Commerce located at 3860 Broadway St. #103\, here in American Canyon.\n\n\n\nChamber Coffee Chat provides chamber members a monthly opportunity to grow their network\, increase visibility in the community\, and time to meet with chamber board members\, chamber staff. These networking events are taking place of the traditional Business Socials to meet the timing needs of our business members.\n\n\n\nWe encourage all American Canyon businesses and non-profits to take advantage of this opportunity to meet and mingle!\n\n\n\nChamber Coffee Chat is a free event and open to the public. We welcome anyone who is interested in becoming more involved with the American Canyon business community.
X-ALT-DESC;FMTTYPE=text/html:<span style="color: rgb(50\, 51\, 58)\;">Join us each month for networking\, coffee\, and light breakfast treats. We will be rotating through the business community so watch our calendar for location.&nbsp\;For the month of June\, our host will be Wine Country Notary Services and we will meet at the AC Chamber of Commerce located at 3860 Broadway St. #103\, here in American Canyon.</span><br />\n<br />\n<span class="JsGRdQ" style="color: rgb(50\, 51\, 58)\;">Chamber Coffee Chat provides chamber members a monthly opportunity to grow their network\, increase visibility in the community\, and time to meet with chamber board members\, chamber staff.<span class="JsGRdQ white-space-prewrap" style="color: rgb(50\, 51\, 58)\;"> </span>These networking events are taking place of the traditional Business Socials to meet the timing needs of our business members.<br />\n<br />\nWe encourage all American Canyon businesses and non-profits to take advantage of this opportunity to meet and mingle!<br />\n<br />\nChamber Coffee Chat is a free event and open to the public. We welcome anyone who is interested in becoming more involved with the American Canyon business community.</span>
LOCATION:American Canyon Chamber of Commerce 3860 Broadway St. #103 American Canyon\, CA 94503
UID:e.2410.3903
SEQUENCE:3
DTSTAMP:20260421T163957Z
URL:http://visit.amcanchamber.org/events/details/chamber-coffee-morning-06-25-2026-3903
END:VEVENT

END:VCALENDAR
