BEGIN:VCALENDAR
VERSION:2.0
PRODID:-//ChamberMaster//Event Calendar 2.0//EN
METHOD:PUBLISH
X-PUBLISHED-TTL:P3D
REFRESH-INTERVAL:P3D
CALSCALE:GREGORIAN
BEGIN:VEVENT
DTSTART;VALUE=DATE:20180420
DTEND;VALUE=DATE:20180421
TRANSP:TRANSPARENT
X-MICROSOFT-CDO-ALLDAYEVENT:TRUE
SUMMARY:Business Walk
DESCRIPTION:American Canyon Chamber of Commerce representatives hit the sidewalks to visit local businesses to thank them for being members of our community.
X-ALT-DESC;FMTTYPE=text/html:American Canyon Chamber of Commerce representatives&nbsp\;hit the sidewalks to visit local businesses to thank them for being members of our community.
LOCATION:
UID:e.2410.1435
SEQUENCE:3
DTSTAMP:20260425T181552Z
URL:http://visit.amcanchamber.org/events/details/business-walk-1435
END:VEVENT

END:VCALENDAR
