BEGIN:VCALENDAR
VERSION:2.0
PRODID:-//ChamberMaster//Event Calendar 2.0//EN
METHOD:PUBLISH
X-PUBLISHED-TTL:P3D
REFRESH-INTERVAL:P3D
CALSCALE:GREGORIAN
BEGIN:VEVENT
DTSTART:20191121T013000Z
DTEND:20191121T033000Z
X-MICROSOFT-CDO-ALLDAYEVENT:FALSE
SUMMARY:Business Social @ UPS
DESCRIPTION:
X-ALT-DESC;FMTTYPE=text/html:
LOCATION:The UPS Store 101 W American Canyon Rd American Canyon\, Ca 94503
UID:e.2410.3478
SEQUENCE:3
DTSTAMP:20260424T182608Z
URL:http://visit.amcanchamber.org/events/details/business-social-ups-3478
END:VEVENT

END:VCALENDAR
