BEGIN:VCALENDAR
VERSION:2.0
PRODID:-//ChamberMaster//Event Calendar 2.0//EN
METHOD:PUBLISH
X-PUBLISHED-TTL:P3D
REFRESH-INTERVAL:P3D
CALSCALE:GREGORIAN
BEGIN:VEVENT
DTSTART:20210804T230000Z
DTEND:20210805T000000Z
X-MICROSOFT-CDO-ALLDAYEVENT:FALSE
SUMMARY:Business Social Distancing
DESCRIPTION:Please join us for an American Canyon Business Social (social-distancing style). We know how important it is to connect our local businesses to each other\, this is our opportunity to hear what your current challenges and setbacks are.
X-ALT-DESC;FMTTYPE=text/html:<span style="color: rgb(35\, 35\, 51)\; font-family: arial\; font-size: 14px\;">Please join us for an American Canyon Business Social (social-distancing style). We know how important it is to connect our local businesses to each other\, this is our opportunity to hear what your current challenges and setbacks are.</span>
LOCATION:
UID:e.2410.3765
SEQUENCE:3
DTSTAMP:20260419T122809Z
URL:http://visit.amcanchamber.org/events/details/business-social-distancing-08-04-2021-3765
END:VEVENT

END:VCALENDAR
