BEGIN:VCALENDAR
VERSION:2.0
PRODID:-//ChamberMaster//Event Calendar 2.0//EN
METHOD:PUBLISH
X-PUBLISHED-TTL:P3D
REFRESH-INTERVAL:P3D
CALSCALE:GREGORIAN
BEGIN:VEVENT
DTSTART:20181129T000000Z
DTEND:20181129T013000Z
X-MICROSOFT-CDO-ALLDAYEVENT:FALSE
SUMMARY:Board Meeting
DESCRIPTION:A meeting of the American Canyon Chamber of Commerce Board of Directors.
X-ALT-DESC;FMTTYPE=text/html:A meeting of the American Canyon Chamber of Commerce Board of Directors.
LOCATION:
UID:e.2410.2327
SEQUENCE:3
DTSTAMP:20260425T133815Z
URL:http://visit.amcanchamber.org/events/details/board-meeting-11-28-2018-2327
END:VEVENT

END:VCALENDAR
