BEGIN:VCALENDAR
VERSION:2.0
PRODID:-//ChamberMaster//Event Calendar 2.0//EN
METHOD:PUBLISH
X-PUBLISHED-TTL:P3D
REFRESH-INTERVAL:P3D
CALSCALE:GREGORIAN
BEGIN:VEVENT
DTSTART:20180926T230000Z
DTEND:20180927T003000Z
X-MICROSOFT-CDO-ALLDAYEVENT:FALSE
SUMMARY:Board Meeting
DESCRIPTION:A meeting of the American Canyon Chamber of Commerce Board of Directors.
X-ALT-DESC;FMTTYPE=text/html:A meeting of the American Canyon Chamber of Commerce Board of Directors.
LOCATION:Holiday Inn 5001 Main St\, American Canyon\, CA 94503
UID:e.2410.2325
SEQUENCE:3
DTSTAMP:20260425T104744Z
URL:http://visit.amcanchamber.org/events/details/board-meeting-09-26-2018-2325
END:VEVENT

END:VCALENDAR
