BEGIN:VCALENDAR
VERSION:2.0
PRODID:-//ChamberMaster//Event Calendar 2.0//EN
METHOD:PUBLISH
X-PUBLISHED-TTL:P3D
REFRESH-INTERVAL:P3D
CALSCALE:GREGORIAN
BEGIN:VEVENT
DTSTART:20180725T230000Z
DTEND:20180726T003000Z
X-MICROSOFT-CDO-ALLDAYEVENT:FALSE
SUMMARY:Board Meeting
DESCRIPTION:A meeting of the American Canyon Chamber of Commerce Board of Directors.
X-ALT-DESC;FMTTYPE=text/html:A meeting of the American Canyon Chamber of Commerce Board of Directors.
LOCATION:
UID:e.2410.2323
SEQUENCE:3
DTSTAMP:20260425T152046Z
URL:http://visit.amcanchamber.org/events/details/board-meeting-07-25-2018-2323
END:VEVENT

END:VCALENDAR
