BEGIN:VCALENDAR
VERSION:2.0
PRODID:-//ChamberMaster//Event Calendar 2.0//EN
METHOD:PUBLISH
X-PUBLISHED-TTL:P3D
REFRESH-INTERVAL:P3D
CALSCALE:GREGORIAN
BEGIN:VEVENT
DTSTART:20171213T180000Z
DTEND:20171213T220000Z
X-MICROSOFT-CDO-ALLDAYEVENT:FALSE
SUMMARY:Barry Callebaut Job Fair
DESCRIPTION:Looking for a new professional challenge in one of the most exciting and dynamic global companies in the food industry? Then Barry Callebaut is the right company for you.\n\nTomorrow Wednesday December 13th 10 am - 2 pm\n\nBarry Callebaut is having a job fair at \n\n1175 Commerce Blvd.\n\nAmerican Canyon\, Ca 94503\n\n707-674-4005
X-ALT-DESC;FMTTYPE=text/html:<p style="margin: 0px 0px 6px\; font-family: Helvetica\, Arial\, sans-serif\; color: rgb(29\, 33\, 41)\; font-size: 14px\; background-color: rgb(255\, 255\, 255)\;">Looking for a new professional challenge in one of the most exciting and dynamic global companies in the food industry? Then Barry Callebaut is the right company for you.</p>\n\n<p style="margin: 6px 0px\; font-family: Helvetica\, Arial\, sans-serif\; color: rgb(29\, 33\, 41)\; font-size: 14px\; background-color: rgb(255\, 255\, 255)\;">Tomorrow Wednesday December 13th 10 am - 2 pm<br />\nBarry Callebaut is having a job fair at&nbsp\;<br />\n1175 Commerce Blvd.<br />\n<span class="text_exposed_show" style="display: inline\; font-family: inherit\;">American Canyon\, Ca 94503<br />\n707-674-4005</span></p>\n
LOCATION:
UID:e.2410.1405
SEQUENCE:3
DTSTAMP:20260426T001743Z
URL:http://visit.amcanchamber.org/events/details/barry-callebaut-job-fair-1405
END:VEVENT

END:VCALENDAR
